BEGIN:VCALENDAR
VERSION:2.0
PRODID:-//annA rydeR - ECPv4.6.3//NONSGML v1.0//EN
CALSCALE:GREGORIAN
METHOD:PUBLISH
X-WR-CALNAME:annA rydeR
X-ORIGINAL-URL:http://www.annaryder.co.uk
X-WR-CALDESC:Events for annA rydeR
BEGIN:VEVENT
DTSTART;TZID=UTC+0:20180614T190000
DTEND;TZID=UTC+0:20180614T230000
DTSTAMP:20260423T112512
CREATED:20180110T135814Z
LAST-MODIFIED:20180110T135814Z
UID:6072-1529002800-1529017200@www.annaryder.co.uk
SUMMARY:Abingdon
DESCRIPTION:A solo gig here at this amazing venue. Support to be announced… \n
URL:http://www.annaryder.co.uk/gig/abingdon/
LOCATION:Medieval Abbey Buildings\, Checker Walk\, Abingdon\, Oxfordshire\, OX14 3JB
CATEGORIES:Solo Gig
ATTACH;FMTTYPE=image/jpeg:http://www.annaryder.co.uk/wp-content/uploads/2017/11/15203399_1844710172431676_6370335585245039858_nLRes.jpg
END:VEVENT
END:VCALENDAR