BEGIN:VCALENDAR
VERSION:2.0
PRODID:-//annA rydeR - ECPv4.6.3//NONSGML v1.0//EN
CALSCALE:GREGORIAN
METHOD:PUBLISH
X-WR-CALNAME:annA rydeR
X-ORIGINAL-URL:http://www.annaryder.co.uk
X-WR-CALDESC:Events for annA rydeR
BEGIN:VEVENT
DTSTART;TZID=UTC+0:20180804T130000
DTEND;TZID=UTC+0:20180804T235900
DTSTAMP:20260421T144521
CREATED:20180110T134740Z
LAST-MODIFIED:20180131T113513Z
UID:6111-1533387600-1533427140@www.annaryder.co.uk
SUMMARY:Alstonefield
DESCRIPTION:Limited tickets! Martyn Wyndham-Read also starring. \nThis will be a ‘House Festival’ organised by the same people (Dave and Val Littlehales) who organise the Village Hall concerts… \nRegister your interest now. \n
URL:http://www.annaryder.co.uk/gig/alstonefield/
LOCATION:Hopedale Farm\, Alstonefield\, Staffordshire
CATEGORIES:Solo Gig,Thing happening
ATTACH;FMTTYPE=image/jpeg:http://www.annaryder.co.uk/wp-content/uploads/2018/01/19554635_10155912364585359_4109092947359698035_n.jpg
ORGANIZER;CN="David%20Littlehales":MAILTO:avh.concerts@gmail.com
END:VEVENT
END:VCALENDAR