BEGIN:VCALENDAR
VERSION:2.0
PRODID:-//annA rydeR - ECPv4.6.3//NONSGML v1.0//EN
CALSCALE:GREGORIAN
METHOD:PUBLISH
X-WR-CALNAME:annA rydeR
X-ORIGINAL-URL:http://www.annaryder.co.uk
X-WR-CALDESC:Events for annA rydeR
BEGIN:VEVENT
DTSTART;TZID=UTC+0:20181013T140000
DTEND;TZID=UTC+0:20181013T150000
DTSTAMP:20260421T231448
CREATED:20180214T144404Z
LAST-MODIFIED:20180214T144603Z
UID:6211-1539439200-1539442800@www.annaryder.co.uk
SUMMARY:Banbury Folk Festival I O T A
DESCRIPTION:Brilliant festival. We’re booked at 2pm Mainstage on Saturday 13th. Yayyyy! \nYou can get your tickets from the website or phone the number below or write to Banbury Folk festival Box Office\, 336 Bretch Hill Banbury Oxon OX16 0LW. \n
URL:http://www.annaryder.co.uk/gig/banbury-folk-festival-i-o-t/
LOCATION:All over Banbury
CATEGORIES:Thing happening,I O T A
ATTACH;FMTTYPE=image/jpeg:http://www.annaryder.co.uk/wp-content/uploads/2017/11/IOTA-2018.jpg
END:VEVENT
END:VCALENDAR