BEGIN:VCALENDAR
VERSION:2.0
PRODID:-//annA rydeR - ECPv4.6.3//NONSGML v1.0//EN
CALSCALE:GREGORIAN
METHOD:PUBLISH
X-WR-CALNAME:annA rydeR
X-ORIGINAL-URL:http://www.annaryder.co.uk
X-WR-CALDESC:Events for annA rydeR
BEGIN:VEVENT
DTSTART;TZID=UTC+0:20191109T194500
DTEND;TZID=UTC+0:20191109T223000
DTSTAMP:20260420T161948
CREATED:20190219T201945Z
LAST-MODIFIED:20190829T170737Z
UID:6445-1573328700-1573338600@www.annaryder.co.uk
SUMMARY:BRISTOL: The Redcatch Club
DESCRIPTION:This is a new club in Bristol and I’m looking forward to playing it!  \nNB This finishes at 10.30pm and please bring your own drink as there’s no bar although teas and coffees are on sale. The entry is CASH ONLY and only £8. \n
URL:http://www.annaryder.co.uk/gig/bristol-redcatch-club/
LOCATION:Redcatch Community Centre\, 38 Redcatch Rd\, Bristol\, England\, BS4 2EP
CATEGORIES:Solo Gig
ATTACH;FMTTYPE=image/jpeg:http://www.annaryder.co.uk/wp-content/uploads/2017/11/annA-rydeR-BFF2016.jpg
ORGANIZER;CN="Trevor%20Carter":MAILTO:windmillbard@aol.co.uk
END:VEVENT
END:VCALENDAR