BEGIN:VCALENDAR
VERSION:2.0
PRODID:-//annA rydeR - ECPv4.6.3//NONSGML v1.0//EN
CALSCALE:GREGORIAN
METHOD:PUBLISH
X-WR-CALNAME:annA rydeR
X-ORIGINAL-URL:http://www.annaryder.co.uk
X-WR-CALDESC:Events for annA rydeR
BEGIN:VEVENT
DTSTART;TZID=UTC+0:20201022T193000
DTEND;TZID=UTC+0:20201022T230000
DTSTAMP:20260420T110726
CREATED:20190925T193742Z
LAST-MODIFIED:20200730T101847Z
UID:6729-1603395000-1603407600@www.annaryder.co.uk
SUMMARY:BURY ST EDMUNDS with The Sandy Denny Project *RE-SCHEDULED*
DESCRIPTION:THIS GIG HAS BEEN RE-SCHEDULED DUE TO COVID: NEW DATE:  6th JUNE 2021 \nannA rydeR\, Sally Barker and Marion Fleetwood (IOTA) play with PJ Wright\, Mark Stevens and Mat Davies as The Sandy Denny Project performing the Songs of Sandy Denny. \nThe Sandy Denny Project (formerly known as Listen-Listen) formed in 2017 to recognise and to celebrate the music of the late Sandy Denny\, who is considered a founder of the British folk-rock movement\, and perhaps its most important female singer. Sandy died in 1978\, however her songs remain as fresh\, poignant and as beautiful today as the time that they were penned. The repertoire of ‘Listen Listen’ reflects the amazing legacy of work left behind by Sandy\, through her work with the early incarnations of Fairport Convention\, the sublime Fotheringay\, and also her incredible repertoire of solo work.  \n
URL:http://www.annaryder.co.uk/gig/bury-st-edmunds-sandy-denny-project/
LOCATION:Charter Square\, Bury St Edmunds\, Suffolk\, IP33 3FD
CATEGORIES:Band Gig
ATTACH;FMTTYPE=image/jpeg:http://www.annaryder.co.uk/wp-content/uploads/2019/09/Listen-Listen-070419-121.jpg
END:VEVENT
END:VCALENDAR