BEGIN:VCALENDAR
VERSION:2.0
PRODID:-//annA rydeR - ECPv4.6.3//NONSGML v1.0//EN
CALSCALE:GREGORIAN
METHOD:PUBLISH
X-WR-CALNAME:annA rydeR
X-ORIGINAL-URL:http://www.annaryder.co.uk
X-WR-CALDESC:Events for annA rydeR
BEGIN:VEVENT
DTSTART;TZID=UTC+0:20190127T183000
DTEND;TZID=UTC+0:20190127T213000
DTSTAMP:20260422T171602
CREATED:20181115T181041Z
LAST-MODIFIED:20181115T192052Z
UID:6291-1548613800-1548624600@www.annaryder.co.uk
SUMMARY:CANTERBURY Folk in the Barn
DESCRIPTION:Yay! A gig in Kent. Would you like to come? I played The Gulbenkian as support guest to Richard Digance a while back. And this is in the same area. \nI am most looking forward to this. The photo is by Martin Wackenier when I did a gig at the Unicorn Theatre… \n£12 online £13 cash or cheque in advance and £14 on the door \n
URL:http://www.annaryder.co.uk/gig/canterbury-black-robin-inn/
LOCATION:The Black Robin\, Covet Lane\, Kingston\, Canterbury\, Kent\, CT4 6HS
CATEGORIES:Solo Gig
ATTACH;FMTTYPE=image/jpeg:http://www.annaryder.co.uk/wp-content/uploads/2018/11/132A9551colour-small.jpg
END:VEVENT
END:VCALENDAR