BEGIN:VCALENDAR
VERSION:2.0
PRODID:-//annA rydeR - ECPv4.6.3//NONSGML v1.0//EN
CALSCALE:GREGORIAN
METHOD:PUBLISH
X-WR-CALNAME:annA rydeR
X-ORIGINAL-URL:http://www.annaryder.co.uk
X-WR-CALDESC:Events for annA rydeR
BEGIN:VEVENT
DTSTART;TZID=UTC+0:20170227T200000
DTEND;TZID=UTC+0:20170227T230000
DTSTAMP:20260420T110214
CREATED:20170118T162926Z
LAST-MODIFIED:20170226T135435Z
UID:5311-1488225600-1488236400@www.annaryder.co.uk
SUMMARY:Coalville\, Guy's Acoustic
DESCRIPTION:I’m coming here for a fun night. I’ll be doing a full hour. Yayyyy! Here is a picture of a banjo for you as I gather there will be banjos there possibly including my own. Hoorah! \n \n
URL:http://www.annaryder.co.uk/gig/coalville-guys-acoustic/
LOCATION:Heather\, Coalville\, Leicestershire\, LE67 2QP
CATEGORIES:Solo Gig
END:VEVENT
END:VCALENDAR