BEGIN:VCALENDAR
VERSION:2.0
PRODID:-//annA rydeR - ECPv4.6.3//NONSGML v1.0//EN
CALSCALE:GREGORIAN
METHOD:PUBLISH
X-WR-CALNAME:annA rydeR
X-ORIGINAL-URL:http://www.annaryder.co.uk
X-WR-CALDESC:Events for annA rydeR
BEGIN:VEVENT
DTSTART;TZID=UTC+0:20180427T193000
DTEND;TZID=UTC+0:20180427T230000
DTSTAMP:20260421T092654
CREATED:20180131T115423Z
LAST-MODIFIED:20180404T102540Z
UID:6136-1524857400-1524870000@www.annaryder.co.uk
SUMMARY:Coalville IOTA CANCELLED
DESCRIPTION:This gig is not on. Due to uninevitable-type circumstances the gig needed to be cancelled. Sorry about this. If you are looking for an alternative nearish to this one look at July 19th The Musician in Leicester. \n
URL:http://www.annaryder.co.uk/gig/coalville-iota/
LOCATION:Snibston\, Ashby Road\, Coalville\, Leicestershire\, LE67 3LN
CATEGORIES:I O T A
ORGANIZER;CN="Century%20Theatre":MAILTO:century.theatre@leics.gov.uk
END:VEVENT
END:VCALENDAR