BEGIN:VCALENDAR
VERSION:2.0
PRODID:-//annA rydeR - ECPv4.6.3//NONSGML v1.0//EN
CALSCALE:GREGORIAN
METHOD:PUBLISH
X-WR-CALNAME:annA rydeR
X-ORIGINAL-URL:http://www.annaryder.co.uk
X-WR-CALDESC:Events for annA rydeR
BEGIN:VEVENT
DTSTART;VALUE=DATE:20190510
DTEND;VALUE=DATE:20190511
DTSTAMP:20260420T091428
CREATED:20181115T200230Z
LAST-MODIFIED:20190219T191002Z
UID:6341-1557446400-1557532799@www.annaryder.co.uk
SUMMARY:CROMER Folk On The Pier LISTEN-LISTEN - The Songs of Sandy Denny
DESCRIPTION:annA rydeR\, Sally Barker and Marion Fleetwood (IOTA) play with PJ Wright\, Mark Stevens and Mat Davies as LISTEN-LISTEN performing the Songs of Sandy Denny. \nTime on stage is last thing Friday night! \nA brilliant festival on a pier! \nannA rydeR\, Sally Barker and Marion Fleetwood (IOTA) play with PJ Wright\, Mark Stevens and Mat Davies as LISTEN-LISTEN performing the Songs of Sandy Denny. Time on stage yet to be scheduled. A brilliant festival on the pier! \n‘Listen Listen’ formed in 2017 to recognize and to celebrate the music of the late Sandy Denny\, who is considered a founder of the British folk-rock movement\, and perhaps its most important female singer. Sandy died in 1978\, however her songs remain as fresh\, poignant and as beautiful today as the time that they were penned. \nThe repertoire of ‘Listen Listen’ reflects the amazing legacy of work left behind by Sandy\, through her work with the early incarnations of Fairport Convention\, the sublime Fotheringay\, and also her incredible repertoire of solo work.  \nA brilliant festival on a pier!  \n
URL:http://www.annaryder.co.uk/gig/cromer-folk-pier-listen-listen-songs-sandy-denny/
LOCATION:Cromer Pier\, Promenade\, Overstrand\, Cromer\, Norfolk\, NR27 9HE
CATEGORIES:Band Gig
ATTACH;FMTTYPE=image/jpeg:http://www.annaryder.co.uk/wp-content/uploads/2018/11/30073312_10156002659676075_3675588835309994110_o.jpg
ORGANIZER;CN="Scott%20Butler":MAILTO:boxoffice@thecromerpier.co.uk
END:VEVENT
END:VCALENDAR