BEGIN:VCALENDAR
VERSION:2.0
PRODID:-//annA rydeR - ECPv4.6.3//NONSGML v1.0//EN
CALSCALE:GREGORIAN
METHOD:PUBLISH
X-WR-CALNAME:annA rydeR
X-ORIGINAL-URL:http://www.annaryder.co.uk
X-WR-CALDESC:Events for annA rydeR
BEGIN:VEVENT
DTSTART;TZID=UTC+0:20181103T193000
DTEND;TZID=UTC+0:20181103T230000
DTSTAMP:20260422T045144
CREATED:20180417T095050Z
LAST-MODIFIED:20180417T095050Z
UID:6259-1541273400-1541286000@www.annaryder.co.uk
SUMMARY:Didcot IOTA
DESCRIPTION:IOTA perform their songs at this great venue at East Hagbourne… \n
URL:http://www.annaryder.co.uk/gig/didcot-iota/
LOCATION:Fleur De Lys Pub\, 30 Main Street\, East Hagbourne\, Didcot\, Oxfordshire\, OX11 9LN
CATEGORIES:I O T A
ATTACH;FMTTYPE=image/jpeg:http://www.annaryder.co.uk/wp-content/uploads/2018/04/DSC_0017-web.jpg
END:VEVENT
END:VCALENDAR