BEGIN:VCALENDAR
VERSION:2.0
PRODID:-//annA rydeR - ECPv4.6.3//NONSGML v1.0//EN
CALSCALE:GREGORIAN
METHOD:PUBLISH
X-WR-CALNAME:annA rydeR
X-ORIGINAL-URL:http://www.annaryder.co.uk
X-WR-CALDESC:Events for annA rydeR
BEGIN:VEVENT
DTSTART;VALUE=DATE:20180603
DTEND;VALUE=DATE:20180604
DTSTAMP:20260421T143331
CREATED:20171204T195752Z
LAST-MODIFIED:20180110T132448Z
UID:6068-1527984000-1528070399@www.annaryder.co.uk
SUMMARY:Didcot I O T A
DESCRIPTION:An IOTA gig with Fairport Convention and The Jar Family at East Hagbourne near Didcot. This will  be fab! \n
URL:http://www.annaryder.co.uk/gig/didcot-oxon/
LOCATION:Fleur De Lys Pub\, 30 Main Street\, East Hagbourne\, Didcot\, Oxfordshire\, OX11 9LN
CATEGORIES:Thing happening,I O T A
ATTACH;FMTTYPE=image/jpeg:http://www.annaryder.co.uk/wp-content/uploads/2017/11/22791668_10155524167306075_8157451117323706867_o.jpg
ORGANIZER;CN="Organiser%20Fleur%20De%20Lys":MAILTO:info@thefleurdelyspub.co.uk
END:VEVENT
END:VCALENDAR