BEGIN:VCALENDAR
VERSION:2.0
PRODID:-//annA rydeR - ECPv4.6.3//NONSGML v1.0//EN
CALSCALE:GREGORIAN
METHOD:PUBLISH
X-WR-CALNAME:annA rydeR
X-ORIGINAL-URL:http://www.annaryder.co.uk
X-WR-CALDESC:Events for annA rydeR
BEGIN:VEVENT
DTSTART;TZID=UTC+0:20130829T160000
DTEND;TZID=UTC+0:20130901T160000
DTSTAMP:20260420T092644
CREATED:20130415T182617Z
LAST-MODIFIED:20130415T182617Z
UID:151-1377792000-1378051200@www.annaryder.co.uk
SUMMARY:Didmarton Bluegrass Festival
DESCRIPTION:Didmarton Bluegrass Festival’s 25th year. \nannA has been asked back after last year’s appearance with bass player Alan Thomson. \nAs well as her stage appearance\, you’ll see her with her accordion at the sessions which are 24 hour. Although this festival is a bluegrass one\, it’s an open-ended approach and you’ll see all sorts of different music here including a folk gig on the Thursday night. \nGood things about this festival: Lovely big campfire for everyone to play music round\, good cheap beer\, really brilliant music from amazing singers and musicians including great bands from the USA\, nice people\, not too big\, easy camping\, everything close-to-hand\, free airshow (when the planes see everyone they take off and do stunts). All night banjo playing! \n  \n
URL:http://www.annaryder.co.uk/gig/didmarton-bluegrass-festival/
LOCATION:A429\, GL7 6BQ
CATEGORIES:Solo Gig
END:VEVENT
END:VCALENDAR