BEGIN:VCALENDAR
VERSION:2.0
PRODID:-//annA rydeR - ECPv4.6.3//NONSGML v1.0//EN
CALSCALE:GREGORIAN
METHOD:PUBLISH
X-WR-CALNAME:annA rydeR
X-ORIGINAL-URL:http://www.annaryder.co.uk
X-WR-CALDESC:Events for annA rydeR
BEGIN:VEVENT
DTSTART;TZID=UTC+0:20210918T193000
DTEND;TZID=UTC+0:20210918T223000
DTSTAMP:20260422T105212
CREATED:20200730T102953Z
LAST-MODIFIED:20210901T090635Z
UID:6932-1631993400-1632004200@www.annaryder.co.uk
SUMMARY:GREEN'S NORTON *Postponed Again!*
DESCRIPTION:SORRY! YET AGAIN THIS GIG HAS BEEN POSTPONED. THE ORGANISERS SAY IT WILL BE RESCHEDULED FOR 2022. \n  \nSOLO SHOW! \nAUDIENCE QUOTE: Where have you been all our lives! We enjoyed the show so much! Your songs are so original\, personal\, yet for everyone. \nannA rydeR is a musical dynamo; an original and inventive singer-songwriter with a musical style that\, although based in folk\, spans an array of genres. Her songs are simultaneously thought-provoking\, poignant and humorous. \nShe is a multi-instrumentalist playing\, amongst others\, piano\, guitars\, accordion\, banjo\, trumpet and is a performer who according to the audience ‘paints great songs’ and who say ‘puts the soul of the people into her music’. \nannA is a musician’s musician who has played with and for many different artists including Fairport Convention\, Eddi Reader and Julianne Regan (All about Eve). \n‘Bring Me Back My Feathers’\, included in the Fairport set for several years\, is annA’s song. They have also performed and recorded her songs ‘Sailing Boat’ and ‘The Crowd’. \nannA has made several albums\, including Paper Girl\, Pockets On Fire and The Art Of Making Faces\, of original ‘songs that demonstrate a rare originality’ (MOJO) which often feature such musicians as Dave Pegg\, Gerry Conway\, Rabbit Bundrick (The Who keyboards)\, Simon Nicol and Clive Bunker. \nA cartoonist as well\, annA was specially commissioned to make the sleeve cover cartoons on Fairport’s album ‘What We Did On Our Saturday’. \n2017 saw annA get together with talented singers and musicians Sally Barker and Marion Fleetwood to create IOTA.\nThis trio combine to make original songs which are poignant\, quirky\, thought-provoking and humorous with sublime harmonies and top class musicianship – described by Julie Matthews as “Three brilliant musicians\, singers and writers exuding an infectious joy of music. A force to be reckoned with.” \n“A multi-talented ball of energy” Julianne Regan [ALL ABOUT EVE]\n
URL:http://www.annaryder.co.uk/gig/greens-norton-nr-towcester-2/
LOCATION:Greens Norton Community Centre. Towcester Rd\, Greens Norton\, Towcester\, Northamptonshire\, NN12 8BL
CATEGORIES:Solo Gig
ATTACH;FMTTYPE=image/jpeg:http://www.annaryder.co.uk/wp-content/uploads/2017/11/DSC_9926LRes.jpg
ORGANIZER;CN="Trevor%20Collier":MAILTO:bookings@gncommunitycentre.org
END:VEVENT
END:VCALENDAR