BEGIN:VCALENDAR
VERSION:2.0
PRODID:-//annA rydeR - ECPv4.6.3//NONSGML v1.0//EN
CALSCALE:GREGORIAN
METHOD:PUBLISH
X-WR-CALNAME:annA rydeR
X-ORIGINAL-URL:http://www.annaryder.co.uk
X-WR-CALDESC:Events for annA rydeR
BEGIN:VEVENT
DTSTART;TZID=UTC+0:20240224T190000
DTEND;TZID=UTC+0:20240224T223000
DTSTAMP:20260421T110847
CREATED:20231102T110105Z
LAST-MODIFIED:20231102T110105Z
UID:7504-1708801200-1708813800@www.annaryder.co.uk
SUMMARY:LAUNCESTON FOLK CLUB: Solo
DESCRIPTION:annA played this lovely venue with her FAT CHANCE SHOW in October 2023 and will be back with her solo show for this gig. \nTickets are available via Eventbrite or  Launceston Folk Club. \n
URL:http://www.annaryder.co.uk/gig/launceston-folk-club-solo/
LOCATION:The Eagle House Hotel\, 3 Castle Street\, Launceston\, Cornwall\, PL15 8BA
CATEGORIES:Solo Gig
ATTACH;FMTTYPE=image/jpeg:http://www.annaryder.co.uk/wp-content/uploads/2017/11/13680593_1786665168236177_2808457668905775095_nLRes.jpg
ORGANIZER;CN="Emma%20Jaynes":MAILTO:music@alfcic.org
END:VEVENT
END:VCALENDAR