BEGIN:VCALENDAR
VERSION:2.0
PRODID:-//annA rydeR - ECPv4.6.3//NONSGML v1.0//EN
CALSCALE:GREGORIAN
METHOD:PUBLISH
X-WR-CALNAME:annA rydeR
X-ORIGINAL-URL:http://www.annaryder.co.uk
X-WR-CALDESC:Events for annA rydeR
BEGIN:VEVENT
DTSTART;TZID=UTC+0:20180719T193000
DTEND;TZID=UTC+0:20180719T230000
DTSTAMP:20260421T110149
CREATED:20180404T102409Z
LAST-MODIFIED:20180404T102635Z
UID:6246-1532028600-1532041200@www.annaryder.co.uk
SUMMARY:Leicester IOTA
DESCRIPTION:We’re playing The Musician in Leicester. Yayyyy! \n
URL:http://www.annaryder.co.uk/gig/leicester-iota/
LOCATION:Clyde Street\, Leicester\, Leicestershire\, LE1 2DE
CATEGORIES:I O T A
ATTACH;FMTTYPE=image/jpeg:http://www.annaryder.co.uk/wp-content/uploads/2018/04/DSC_0017-web.jpg
ORGANIZER;CN="Darren%20Nockles":MAILTO:rideout@stayfree.co.uk
END:VEVENT
END:VCALENDAR