BEGIN:VCALENDAR
VERSION:2.0
PRODID:-//annA rydeR - ECPv4.6.3//NONSGML v1.0//EN
CALSCALE:GREGORIAN
METHOD:PUBLISH
X-WR-CALNAME:annA rydeR
X-ORIGINAL-URL:http://www.annaryder.co.uk
X-WR-CALDESC:Events for annA rydeR
BEGIN:VEVENT
DTSTART;TZID=UTC+0:20181202T193000
DTEND;TZID=UTC+0:20181202T230000
DTSTAMP:20260422T082353
CREATED:20180417T095424Z
LAST-MODIFIED:20180417T095424Z
UID:6261-1543779000-1543791600@www.annaryder.co.uk
SUMMARY:Long Itchington
DESCRIPTION:A small gig at The Harvester Inn at this little village near Southam in Warrwickshire… annA does this one local to her every now and then. Lovely pub – good beer\, nice evening out. \n
URL:http://www.annaryder.co.uk/gig/long-itchington/
LOCATION:Church Road\, Long Itchington\, Near Southam\, CV47 9PE
CATEGORIES:Solo Gig
ATTACH;FMTTYPE=image/jpeg:http://www.annaryder.co.uk/wp-content/uploads/2017/11/15203399_1844710172431676_6370335585245039858_nLRes.jpg
END:VEVENT
END:VCALENDAR