BEGIN:VCALENDAR
VERSION:2.0
PRODID:-//annA rydeR - ECPv4.6.3//NONSGML v1.0//EN
CALSCALE:GREGORIAN
METHOD:PUBLISH
X-WR-CALNAME:annA rydeR
X-ORIGINAL-URL:http://www.annaryder.co.uk
X-WR-CALDESC:Events for annA rydeR
BEGIN:VEVENT
DTSTART;TZID=UTC+0:20180502T193000
DTEND;TZID=UTC+0:20180502T230000
DTSTAMP:20260421T110855
CREATED:20171112T200038Z
LAST-MODIFIED:20180327T213529Z
UID:5880-1525289400-1525302000@www.annaryder.co.uk
SUMMARY:Nuneaton Folk Club
DESCRIPTION:A local gig for me. The club moved venue recently so check out the address if you’re not sure. In the meantime here is a picture of me practicing… \n
URL:http://www.annaryder.co.uk/gig/nuneaton-folk-club/
LOCATION:Queen's Hall\, Queen's Road\, Nuneaton\, Warwickshire\, CV11 5LA
CATEGORIES:Solo Gig
ATTACH;FMTTYPE=image/jpeg:http://www.annaryder.co.uk/wp-content/uploads/2014/05/Peggys-T-shirt.jpg
ORGANIZER;CN="Geoff%20Veasey":MAILTO:abolper@yahoo.co.uk
END:VEVENT
END:VCALENDAR