BEGIN:VCALENDAR
VERSION:2.0
PRODID:-//annA rydeR - ECPv4.6.3//NONSGML v1.0//EN
CALSCALE:GREGORIAN
METHOD:PUBLISH
X-WR-CALNAME:annA rydeR
X-ORIGINAL-URL:http://www.annaryder.co.uk
X-WR-CALDESC:Events for annA rydeR
BEGIN:VEVENT
DTSTART;TZID=UTC+0:20140514T200000
DTEND;TZID=UTC+0:20140514T230000
DTSTAMP:20260420T091025
CREATED:20140426T213006Z
LAST-MODIFIED:20140514T165520Z
UID:4341-1400097600-1400108400@www.annaryder.co.uk
SUMMARY:Nursery Tavern
DESCRIPTION:UPDATE: TERRIBLY SORRY I’VE HAD TO CANCEL THIS AS I HAVE BEEN NOT VERY WELL + NOW I HAVE LOST MY VOICE ARGH – it has got all split-ends. \nIt will still be a lovely evening so go along for the fun and especially as it is a nice pub and it’s fre and there are still 3 other acts on. \n\nThis is a monthly gig featuring various local artists and is usually a triple header. \nLikely to be 1st on which is about 8.15ish I think… \n  \n  \nThis is a great little pub on a residential street with friendly people\, and I play here quite often just a short set of about half an hour but the beer’s nice and it’s FREE! \n
URL:http://www.annaryder.co.uk/gig/nursery-tavern-2/
LOCATION:Lord Street\, Coventry\, CV5 8DA 
CATEGORIES:Solo Gig
END:VEVENT
END:VCALENDAR