BEGIN:VCALENDAR
VERSION:2.0
PRODID:-//annA rydeR - ECPv4.6.3//NONSGML v1.0//EN
CALSCALE:GREGORIAN
METHOD:PUBLISH
X-WR-CALNAME:annA rydeR
X-ORIGINAL-URL:http://www.annaryder.co.uk
X-WR-CALDESC:Events for annA rydeR
BEGIN:VEVENT
DTSTART;TZID=UTC+0:20200926T193000
DTEND;TZID=UTC+0:20200926T230000
DTSTAMP:20260422T162202
CREATED:20190925T193253Z
LAST-MODIFIED:20190925T193411Z
UID:6724-1601148600-1601161200@www.annaryder.co.uk
SUMMARY:SILVERDALE Village Institute IOTA
DESCRIPTION:tix: contact Andy at Fletchthedoc@gmail.com \nwww.iotaband.co.uk\nThe vibrant IOTA merge the solo talents of Tom Jones-mentored Voice 2014 finalist Sally Barker with multi-instrumentalists Anna Ryder and Marion Fleetwood. All three play guitars\, sing and write the songs as well as performing a smattering of well chosen cover tunes. Midlands musicians Anna and Marion also play cello\, French horn\, keyboards\, fiddle\, accordion and banjo. On their debut album ‘O YEH YEH !’ IOTA show off their excellent writing and performing skills.\nA video of song ‘Downfall’ can be seen here: https://www.youtube.com/watch?v=Rf_3n0uFxF0 Individually they are highly skilled performers\, admired by many fellow musicians\, together their mix of sublime harmonies\, humour\, poignant songs and whacky sense humour bring us a fabulous new band !! \n
URL:http://www.annaryder.co.uk/gig/silverdale-village-institute-iota-2/
LOCATION:27 Spring Bank\, Silverdale\, Lancashire\, LA5 0TE
CATEGORIES:I O T A
ATTACH;FMTTYPE=image/jpeg:http://www.annaryder.co.uk/wp-content/uploads/2018/11/IOTA-111418small.jpg
ORGANIZER;CN="Andy%20Fletcher":MAILTO:fletchthedoc@gmail.com
END:VEVENT
END:VCALENDAR