BEGIN:VCALENDAR
VERSION:2.0
PRODID:-//annA rydeR - ECPv4.6.3//NONSGML v1.0//EN
CALSCALE:GREGORIAN
METHOD:PUBLISH
X-WR-CALNAME:annA rydeR
X-ORIGINAL-URL:http://www.annaryder.co.uk
X-WR-CALDESC:Events for annA rydeR
BEGIN:VEVENT
DTSTART;VALUE=DATE:20180824
DTEND;VALUE=DATE:20180828
DTSTAMP:20260421T180134
CREATED:20180427T123203Z
LAST-MODIFIED:20180427T124051Z
UID:6268-1535068800-1535414399@www.annaryder.co.uk
SUMMARY:TOWERSEY FOLK FESTIVAL
DESCRIPTION:IOTA have been invited to Towersey Folk Festival to MC as a trio this year. We might play the odd song…And have a bit of fun at the festival. \nI did this festival a few times a while back and went as a punter because it was a great festival. Can’t wait to go back! \n
URL:http://www.annaryder.co.uk/gig/towersey-folk-festival/
LOCATION:Thame Showground\, Thame\, Oxon\, OX9 3JL
CATEGORIES:I O T A
ATTACH;FMTTYPE=image/jpeg:http://www.annaryder.co.uk/wp-content/uploads/2018/04/DSC_0017-web.jpg
END:VEVENT
END:VCALENDAR