BEGIN:VCALENDAR
VERSION:2.0
PRODID:-//annA rydeR - ECPv4.6.3//NONSGML v1.0//EN
CALSCALE:GREGORIAN
METHOD:PUBLISH
X-WR-CALNAME:annA rydeR
X-ORIGINAL-URL:http://www.annaryder.co.uk
X-WR-CALDESC:Events for annA rydeR
BEGIN:VEVENT
DTSTART;VALUE=DATE:20220801
DTEND;VALUE=DATE:20220806
DTSTAMP:20260421T092616
CREATED:20220106T183941Z
LAST-MODIFIED:20220106T183941Z
UID:7130-1659312000-1659743999@www.annaryder.co.uk
SUMMARY:WALTON: Solo & with IOTA
DESCRIPTION:annA will perform SOLO and with her trio IOTA at this fab festival. \nHome for this four-night\, three-day country garden festival\, is the stunning 16th Century Walton Hall\, nestled in 65 acres of beautiful English countryside\, just outside Shakespeare’s birthplace\, Stratford-upon-Avon. \nAUDIENCE QUOTE: Where have you been all our lives! We enjoyed the show so much! Your songs are so original\, personal\, yet for everyone. \nannA rydeR is a musical dynamo; an original and inventive singer-songwriter with a musical style that\, although based in folk\, spans an array of genres. Her songs are simultaneously thought-provoking\, poignant and humorous. \nShe is a multi-instrumentalist playing\, amongst others\, piano\, guitars\, accordion\, banjo\, trumpet and is a performer who according to the audience ‘paints great songs’ and who say ‘puts the soul of the people into her music’. \nannA is a musician’s musician who has played with and for many different artists including Fairport Convention\, Eddi Reader and Julianne Regan (All about Eve). \n‘Bring Me Back My Feathers’\, included in the Fairport set for several years\, is annA’s song. They have also performed and recorded her songs ‘Sailing Boat’ and ‘The Crowd’. \nannA has made several albums\, including Paper Girl\, Pockets On Fire and The Art Of Making Faces\, of original ‘songs that demonstrate a rare originality’ (MOJO) which often feature such musicians as Dave Pegg\, Gerry Conway\, Rabbit Bundrick (The Who keyboards)\, Simon Nicol and Clive Bunker. \nA cartoonist as well\, annA was specially commissioned to make the sleeve cover cartoons on Fairport’s album ‘What We Did On Our Saturday’. \n2017 saw annA get together with talented singers and musicians Sally Barker and Marion Fleetwood to create IOTA.\nThis trio combine to make original songs which are poignant\, quirky\, thought-provoking and humorous with sublime harmonies and top class musicianship – described by Julie Matthews as “Three brilliant musicians\, singers and writers exuding an infectious joy of music. A force to be reckoned with.” \n“A multi-talented ball of energy” Julianne Regan [ALL ABOUT EVE]\n  \n
URL:http://www.annaryder.co.uk/gig/walton-solo-iota/
LOCATION:Mercure Warwickshire Walton Hall Hotel\, Walton\, Wellesbourne\, CV35 9HG
CATEGORIES:Solo Gig,I O T A
ATTACH;FMTTYPE=image/jpeg:http://www.annaryder.co.uk/wp-content/uploads/2018/11/IOTA-111418small.jpg
END:VEVENT
END:VCALENDAR