BEGIN:VCALENDAR
VERSION:2.0
PRODID:-//annA rydeR - ECPv4.6.3//NONSGML v1.0//EN
CALSCALE:GREGORIAN
METHOD:PUBLISH
X-WR-CALNAME:annA rydeR
X-ORIGINAL-URL:http://www.annaryder.co.uk
X-WR-CALDESC:Events for annA rydeR
BEGIN:VEVENT
DTSTART;TZID=UTC+0:20181022T193000
DTEND;TZID=UTC+0:20181022T230000
DTSTAMP:20260422T025917
CREATED:20180110T133515Z
LAST-MODIFIED:20180110T133515Z
UID:6100-1540236600-1540249200@www.annaryder.co.uk
SUMMARY:Warwick Folk Club
DESCRIPTION:I am excited to say I shall be playing this venue! I haven’t played it for quite a few years now and it will be at a new venue. (See details) \n
URL:http://www.annaryder.co.uk/gig/warwick-folk-club/
LOCATION:The Racehorse (No. 34 Bar & Grill)\, 34 Stratford Road\, Warwick\, CV34 6AS
CATEGORIES:Solo Gig
ATTACH;FMTTYPE=image/jpeg:http://www.annaryder.co.uk/wp-content/uploads/2017/08/faces-theo.jpg
ORGANIZER;CN="Norman%20Wheatley":MAILTO:warwickfolkclub@gmail.com
END:VEVENT
END:VCALENDAR