BEGIN:VCALENDAR
VERSION:2.0
PRODID:-//annA rydeR - ECPv4.6.3//NONSGML v1.0//EN
CALSCALE:GREGORIAN
METHOD:PUBLISH
X-WR-CALNAME:annA rydeR
X-ORIGINAL-URL:http://www.annaryder.co.uk
X-WR-CALDESC:Events for annA rydeR
BEGIN:VEVENT
DTSTART;TZID=UTC+0:20171024T200000
DTEND;TZID=UTC+0:20171024T230000
DTSTAMP:20260420T104509
CREATED:20170822T153827Z
LAST-MODIFIED:20170918T155425Z
UID:5510-1508875200-1508886000@www.annaryder.co.uk
SUMMARY:Wurzel Bush Folk Club
DESCRIPTION:Playing here solo. It’s a ‘pass-the-hat’ event in a nice friendly village pub. Here is a picture of me in case you forgot… \n
URL:http://www.annaryder.co.uk/gig/wurzel-bush-folk-club/
LOCATION:Rugby West Indian Association Social Club\, Railway Terrace\,\, Rugby\, CV21 3HE
CATEGORIES:Solo Gig
ATTACH;FMTTYPE=image/jpeg:http://www.annaryder.co.uk/wp-content/uploads/2017/06/Rainbow-card.jpg
END:VEVENT
END:VCALENDAR